BEGIN:VCALENDAR
VERSION:2.0
PRODID:-//Faith Baptist Church - ECPv6.15.20//NONSGML v1.0//EN
CALSCALE:GREGORIAN
METHOD:PUBLISH
X-WR-CALNAME:Faith Baptist Church
X-ORIGINAL-URL:https://fbcstocktonmo.com
X-WR-CALDESC:Events for Faith Baptist Church
REFRESH-INTERVAL;VALUE=DURATION:PT1H
X-Robots-Tag:noindex
X-PUBLISHED-TTL:PT1H
BEGIN:VTIMEZONE
TZID:UTC
BEGIN:STANDARD
TZOFFSETFROM:+0000
TZOFFSETTO:+0000
TZNAME:UTC
DTSTART:20250101T000000
END:STANDARD
END:VTIMEZONE
BEGIN:VEVENT
DTSTART;VALUE=DATE:20260621
DTEND;VALUE=DATE:20260622
DTSTAMP:20260423T181816
CREATED:20260224T225502Z
LAST-MODIFIED:20260224T225502Z
UID:1502-1782000000-1782086399@fbcstocktonmo.com
SUMMARY:Father's Day
DESCRIPTION:
URL:https://fbcstocktonmo.com/event/fathers-day-3/
END:VEVENT
BEGIN:VEVENT
DTSTART;VALUE=DATE:20260621
DTEND;VALUE=DATE:20260622
DTSTAMP:20260423T181816
CREATED:20260224T225541Z
LAST-MODIFIED:20260224T225541Z
UID:1504-1782000000-1782086399@fbcstocktonmo.com
SUMMARY:Good Ole Baptist Potluck
DESCRIPTION:After the Evening Service
URL:https://fbcstocktonmo.com/event/good-ole-baptist-potluck-5/
END:VEVENT
END:VCALENDAR