BEGIN:VCALENDAR
VERSION:2.0
PRODID:-//Faith Baptist Church - ECPv6.15.20//NONSGML v1.0//EN
CALSCALE:GREGORIAN
METHOD:PUBLISH
X-WR-CALNAME:Faith Baptist Church
X-ORIGINAL-URL:https://fbcstocktonmo.com
X-WR-CALDESC:Events for Faith Baptist Church
REFRESH-INTERVAL;VALUE=DURATION:PT1H
X-Robots-Tag:noindex
X-PUBLISHED-TTL:PT1H
BEGIN:VTIMEZONE
TZID:UTC
BEGIN:STANDARD
TZOFFSETFROM:+0000
TZOFFSETTO:+0000
TZNAME:UTC
DTSTART:20250101T000000
END:STANDARD
END:VTIMEZONE
BEGIN:VEVENT
DTSTART;VALUE=DATE:20261204
DTEND;VALUE=DATE:20261205
DTSTAMP:20260424T000343
CREATED:20260224T232155Z
LAST-MODIFIED:20260224T232155Z
UID:1590-1796342400-1796428799@fbcstocktonmo.com
SUMMARY:Church Activity
DESCRIPTION:
URL:https://fbcstocktonmo.com/event/church-activity-11/
END:VEVENT
END:VCALENDAR