BEGIN:VCALENDAR
VERSION:2.0
PRODID:-//Faith Baptist Church - ECPv6.15.20//NONSGML v1.0//EN
CALSCALE:GREGORIAN
METHOD:PUBLISH
X-WR-CALNAME:Faith Baptist Church
X-ORIGINAL-URL:https://fbcstocktonmo.com
X-WR-CALDESC:Events for Faith Baptist Church
REFRESH-INTERVAL;VALUE=DURATION:PT1H
X-Robots-Tag:noindex
X-PUBLISHED-TTL:PT1H
BEGIN:VTIMEZONE
TZID:UTC
BEGIN:STANDARD
TZOFFSETFROM:+0000
TZOFFSETTO:+0000
TZNAME:UTC
DTSTART:20250101T000000
END:STANDARD
END:VTIMEZONE
BEGIN:VEVENT
DTSTART;VALUE=DATE:20260823
DTEND;VALUE=DATE:20260824
DTSTAMP:20260423T232043
CREATED:20260224T230251Z
LAST-MODIFIED:20260224T230251Z
UID:1532-1787443200-1787529599@fbcstocktonmo.com
SUMMARY:Ice Cream Night
DESCRIPTION:
URL:https://fbcstocktonmo.com/event/ice-cream-night-2/
END:VEVENT
BEGIN:VEVENT
DTSTART;VALUE=DATE:20260902
DTEND;VALUE=DATE:20260903
DTSTAMP:20260423T232043
CREATED:20260224T230313Z
LAST-MODIFIED:20260224T230313Z
UID:1534-1788307200-1788393599@fbcstocktonmo.com
SUMMARY:Bus Meeting
DESCRIPTION:
URL:https://fbcstocktonmo.com/event/bus-meeting-5/
END:VEVENT
BEGIN:VEVENT
DTSTART;VALUE=DATE:20260907
DTEND;VALUE=DATE:20260908
DTSTAMP:20260423T232043
CREATED:20260224T230344Z
LAST-MODIFIED:20260224T230344Z
UID:1536-1788739200-1788825599@fbcstocktonmo.com
SUMMARY:Week of Prayer and Fasting
DESCRIPTION:
URL:https://fbcstocktonmo.com/event/week-of-prayer-and-fasting-5/
END:VEVENT
BEGIN:VEVENT
DTSTART;VALUE=DATE:20260910
DTEND;VALUE=DATE:20260911
DTSTAMP:20260423T232043
CREATED:20260224T230428Z
LAST-MODIFIED:20260224T230428Z
UID:1538-1788998400-1789084799@fbcstocktonmo.com
SUMMARY:Secret Sister Reveal
DESCRIPTION:
URL:https://fbcstocktonmo.com/event/secret-sister-reveal-11/
END:VEVENT
BEGIN:VEVENT
DTSTART;VALUE=DATE:20260916
DTEND;VALUE=DATE:20260917
DTSTAMP:20260423T232043
CREATED:20260224T230501Z
LAST-MODIFIED:20260224T230501Z
UID:1540-1789516800-1789603199@fbcstocktonmo.com
SUMMARY:Teachers/Workers Meeting
DESCRIPTION:
URL:https://fbcstocktonmo.com/event/teachers-workers-meeting-19/
END:VEVENT
BEGIN:VEVENT
DTSTART;VALUE=DATE:20260918
DTEND;VALUE=DATE:20260919
DTSTAMP:20260423T232043
CREATED:20260224T230523Z
LAST-MODIFIED:20260224T230523Z
UID:1542-1789689600-1789775999@fbcstocktonmo.com
SUMMARY:Church Activity
DESCRIPTION:
URL:https://fbcstocktonmo.com/event/church-activity-10/
END:VEVENT
BEGIN:VEVENT
DTSTART;VALUE=DATE:20260922
DTEND;VALUE=DATE:20260923
DTSTAMP:20260423T232043
CREATED:20260224T230551Z
LAST-MODIFIED:20260224T230551Z
UID:1544-1790035200-1790121599@fbcstocktonmo.com
SUMMARY:Tuesday Night Visitation Ends
DESCRIPTION:
URL:https://fbcstocktonmo.com/event/tuesday-night-visitation-ends/
END:VEVENT
BEGIN:VEVENT
DTSTART;VALUE=DATE:20260924
DTEND;VALUE=DATE:20260927
DTSTAMP:20260423T232043
CREATED:20260224T230628Z
LAST-MODIFIED:20260224T230628Z
UID:1546-1790208000-1790467199@fbcstocktonmo.com
SUMMARY:Walnut Festival
DESCRIPTION:
URL:https://fbcstocktonmo.com/event/walnut-festival-2/
END:VEVENT
BEGIN:VEVENT
DTSTART;VALUE=DATE:20260927
DTEND;VALUE=DATE:20260928
DTSTAMP:20260423T232043
CREATED:20260224T230659Z
LAST-MODIFIED:20260224T230659Z
UID:1548-1790467200-1790553599@fbcstocktonmo.com
SUMMARY:Anniversary Sunday with Larry Brown
DESCRIPTION:
URL:https://fbcstocktonmo.com/event/anniversary-sunday-with-larry-brown-2/
END:VEVENT
BEGIN:VEVENT
DTSTART;VALUE=DATE:20261003
DTEND;VALUE=DATE:20261004
DTSTAMP:20260423T232043
CREATED:20260224T230725Z
LAST-MODIFIED:20260224T230725Z
UID:1550-1790985600-1791071999@fbcstocktonmo.com
SUMMARY:Super Saturday Soul Winning
DESCRIPTION:
URL:https://fbcstocktonmo.com/event/super-saturday-soul-winning/
END:VEVENT
BEGIN:VEVENT
DTSTART;VALUE=DATE:20261005
DTEND;VALUE=DATE:20261006
DTSTAMP:20260423T232043
CREATED:20260224T230856Z
LAST-MODIFIED:20260224T230856Z
UID:1554-1791158400-1791244799@fbcstocktonmo.com
SUMMARY:Week of Prayer and Fasting for Round Up Sunday
DESCRIPTION:
URL:https://fbcstocktonmo.com/event/week-of-prayer-and-fasting-for-round-up-sunday/
END:VEVENT
BEGIN:VEVENT
DTSTART;VALUE=DATE:20261007
DTEND;VALUE=DATE:20261008
DTSTAMP:20260423T232043
CREATED:20260224T230931Z
LAST-MODIFIED:20260224T230931Z
UID:1556-1791331200-1791417599@fbcstocktonmo.com
SUMMARY:Bus Meeting
DESCRIPTION:
URL:https://fbcstocktonmo.com/event/bus-meeting-6/
END:VEVENT
BEGIN:VEVENT
DTSTART;VALUE=DATE:20261009
DTEND;VALUE=DATE:20261011
DTSTAMP:20260423T232043
CREATED:20260224T231001Z
LAST-MODIFIED:20260224T231001Z
UID:1558-1791504000-1791676799@fbcstocktonmo.com
SUMMARY:Ladies' Retreat
DESCRIPTION:
URL:https://fbcstocktonmo.com/event/ladies-retreat/
END:VEVENT
BEGIN:VEVENT
DTSTART;VALUE=DATE:20261011
DTEND;VALUE=DATE:20261012
DTSTAMP:20260423T232043
CREATED:20260224T231035Z
LAST-MODIFIED:20260224T231035Z
UID:1560-1791676800-1791763199@fbcstocktonmo.com
SUMMARY:Round Up a Friend Sunday with Bruce Frye
DESCRIPTION:
URL:https://fbcstocktonmo.com/event/round-up-a-friend-sunday-with-bruce-frye/
END:VEVENT
BEGIN:VEVENT
DTSTART;VALUE=DATE:20261015
DTEND;VALUE=DATE:20261018
DTSTAMP:20260423T232043
CREATED:20260224T231109Z
LAST-MODIFIED:20260224T231109Z
UID:1562-1792022400-1792281599@fbcstocktonmo.com
SUMMARY:Men's Retreat at Triple S Ranch
DESCRIPTION:
URL:https://fbcstocktonmo.com/event/mens-retreat-at-triple-s-ranch/
END:VEVENT
BEGIN:VEVENT
DTSTART;VALUE=DATE:20261021
DTEND;VALUE=DATE:20261022
DTSTAMP:20260423T232043
CREATED:20260224T231151Z
LAST-MODIFIED:20260224T231151Z
UID:1564-1792540800-1792627199@fbcstocktonmo.com
SUMMARY:Teachers/Workers Meeting
DESCRIPTION:
URL:https://fbcstocktonmo.com/event/teachers-workers-meeting-20/
END:VEVENT
BEGIN:VEVENT
DTSTART;VALUE=DATE:20261025
DTEND;VALUE=DATE:20261026
DTSTAMP:20260423T232043
CREATED:20260224T231218Z
LAST-MODIFIED:20260224T231218Z
UID:1566-1792886400-1792972799@fbcstocktonmo.com
SUMMARY:Pumpkin Sunday
DESCRIPTION:
URL:https://fbcstocktonmo.com/event/pumpkin-sunday-4/
END:VEVENT
BEGIN:VEVENT
DTSTART;VALUE=DATE:20261101
DTEND;VALUE=DATE:20261102
DTSTAMP:20260423T232043
CREATED:20260224T231244Z
LAST-MODIFIED:20260224T231244Z
UID:1568-1793491200-1793577599@fbcstocktonmo.com
SUMMARY:Daylight Savings Time
DESCRIPTION:
URL:https://fbcstocktonmo.com/event/daylight-savings-time-3/
END:VEVENT
BEGIN:VEVENT
DTSTART;VALUE=DATE:20261104
DTEND;VALUE=DATE:20261105
DTSTAMP:20260423T232043
CREATED:20260224T231309Z
LAST-MODIFIED:20260224T231309Z
UID:1570-1793750400-1793836799@fbcstocktonmo.com
SUMMARY:Bus Meeting
DESCRIPTION:
URL:https://fbcstocktonmo.com/event/bus-meeting-7/
END:VEVENT
BEGIN:VEVENT
DTSTART;VALUE=DATE:20261109
DTEND;VALUE=DATE:20261110
DTSTAMP:20260423T232043
CREATED:20260224T231347Z
LAST-MODIFIED:20260224T231347Z
UID:1572-1794182400-1794268799@fbcstocktonmo.com
SUMMARY:Week of Prayer and Fasting
DESCRIPTION:
URL:https://fbcstocktonmo.com/event/week-of-prayer-and-fasting-6/
END:VEVENT
BEGIN:VEVENT
DTSTART;VALUE=DATE:20261115
DTEND;VALUE=DATE:20261116
DTSTAMP:20260423T232043
CREATED:20260224T231413Z
LAST-MODIFIED:20260224T231413Z
UID:1574-1794700800-1794787199@fbcstocktonmo.com
SUMMARY:Veterans Sunday
DESCRIPTION:
URL:https://fbcstocktonmo.com/event/veterans-sunday-3/
END:VEVENT
BEGIN:VEVENT
DTSTART;VALUE=DATE:20261118
DTEND;VALUE=DATE:20261119
DTSTAMP:20260423T232043
CREATED:20260224T231821Z
LAST-MODIFIED:20260224T231821Z
UID:1577-1794960000-1795046399@fbcstocktonmo.com
SUMMARY:Teachers/Workers Meeting
DESCRIPTION:
URL:https://fbcstocktonmo.com/event/teachers-workers-meeting-21/
END:VEVENT
BEGIN:VEVENT
DTSTART;VALUE=DATE:20261122
DTEND;VALUE=DATE:20261123
DTSTAMP:20260423T232043
CREATED:20260224T231925Z
LAST-MODIFIED:20260224T231953Z
UID:1581-1795305600-1795391999@fbcstocktonmo.com
SUMMARY:Thanksgiving Fellowship
DESCRIPTION:After the Evening Service
URL:https://fbcstocktonmo.com/event/thanksgiving-fellowship-3/
END:VEVENT
BEGIN:VEVENT
DTSTART;VALUE=DATE:20261122
DTEND;VALUE=DATE:20261123
DTSTAMP:20260423T232043
CREATED:20260224T231853Z
LAST-MODIFIED:20260224T231853Z
UID:1579-1795305600-1795391999@fbcstocktonmo.com
SUMMARY:Thanksgiving Offering Sunday
DESCRIPTION:
URL:https://fbcstocktonmo.com/event/thanksgiving-offering-sunday-2/
END:VEVENT
BEGIN:VEVENT
DTSTART;VALUE=DATE:20261124
DTEND;VALUE=DATE:20261125
DTSTAMP:20260423T232043
CREATED:20260224T232023Z
LAST-MODIFIED:20260224T232023Z
UID:1583-1795478400-1795564799@fbcstocktonmo.com
SUMMARY:Mid-Week Service
DESCRIPTION:
URL:https://fbcstocktonmo.com/event/mid-week-service/
END:VEVENT
BEGIN:VEVENT
DTSTART;VALUE=DATE:20261126
DTEND;VALUE=DATE:20261128
DTSTAMP:20260423T232043
CREATED:20260224T232101Z
LAST-MODIFIED:20260224T232112Z
UID:1585-1795651200-1795823999@fbcstocktonmo.com
SUMMARY:Church Offices Closed for Thanksgiving
DESCRIPTION:
URL:https://fbcstocktonmo.com/event/church-offices-closed/
END:VEVENT
BEGIN:VEVENT
DTSTART;VALUE=DATE:20261202
DTEND;VALUE=DATE:20261203
DTSTAMP:20260423T232043
CREATED:20260224T232133Z
LAST-MODIFIED:20260224T232133Z
UID:1588-1796169600-1796255999@fbcstocktonmo.com
SUMMARY:Bus Meeting
DESCRIPTION:
URL:https://fbcstocktonmo.com/event/bus-meeting-8/
END:VEVENT
BEGIN:VEVENT
DTSTART;VALUE=DATE:20261204
DTEND;VALUE=DATE:20261205
DTSTAMP:20260423T232043
CREATED:20260224T232155Z
LAST-MODIFIED:20260224T232155Z
UID:1590-1796342400-1796428799@fbcstocktonmo.com
SUMMARY:Church Activity
DESCRIPTION:
URL:https://fbcstocktonmo.com/event/church-activity-11/
END:VEVENT
BEGIN:VEVENT
DTSTART;VALUE=DATE:20261206
DTEND;VALUE=DATE:20261207
DTSTAMP:20260423T232043
CREATED:20260224T232222Z
LAST-MODIFIED:20260224T232222Z
UID:1592-1796515200-1796601599@fbcstocktonmo.com
SUMMARY:Parent/Baby Dedication Sunday
DESCRIPTION:
URL:https://fbcstocktonmo.com/event/parent-baby-dedication-sunday-3/
END:VEVENT
BEGIN:VEVENT
DTSTART;VALUE=DATE:20261207
DTEND;VALUE=DATE:20261208
DTSTAMP:20260423T232043
CREATED:20260224T232257Z
LAST-MODIFIED:20260224T232257Z
UID:1594-1796601600-1796687999@fbcstocktonmo.com
SUMMARY:Week of Prayer and Fasting
DESCRIPTION:
URL:https://fbcstocktonmo.com/event/week-of-prayer-and-fasting-7/
END:VEVENT
END:VCALENDAR