BEGIN:VCALENDAR
VERSION:2.0
PRODID:-//Faith Baptist Church - ECPv6.15.20//NONSGML v1.0//EN
CALSCALE:GREGORIAN
METHOD:PUBLISH
X-WR-CALNAME:Faith Baptist Church
X-ORIGINAL-URL:https://fbcstocktonmo.com
X-WR-CALDESC:Events for Faith Baptist Church
REFRESH-INTERVAL;VALUE=DURATION:PT1H
X-Robots-Tag:noindex
X-PUBLISHED-TTL:PT1H
BEGIN:VTIMEZONE
TZID:UTC
BEGIN:STANDARD
TZOFFSETFROM:+0000
TZOFFSETTO:+0000
TZNAME:UTC
DTSTART:20230101T000000
END:STANDARD
END:VTIMEZONE
BEGIN:VEVENT
DTSTART;VALUE=DATE:20240926
DTEND;VALUE=DATE:20240929
DTSTAMP:20260424T073635
CREATED:20240318T195301Z
LAST-MODIFIED:20240318T195301Z
UID:1207-1727308800-1727567999@fbcstocktonmo.com
SUMMARY:Walnut Festival
DESCRIPTION:
URL:https://fbcstocktonmo.com/event/walnut-festival/
END:VEVENT
BEGIN:VEVENT
DTSTART;VALUE=DATE:20240922
DTEND;VALUE=DATE:20240923
DTSTAMP:20260424T073635
CREATED:20240318T195113Z
LAST-MODIFIED:20240318T195113Z
UID:1201-1726963200-1727049599@fbcstocktonmo.com
SUMMARY:Anniversary Sunday
DESCRIPTION:Celebrating Our Fifth Anniversary!
URL:https://fbcstocktonmo.com/event/anniversary-sunday/
END:VEVENT
BEGIN:VEVENT
DTSTART;VALUE=DATE:20240918
DTEND;VALUE=DATE:20240919
DTSTAMP:20260424T073635
CREATED:20240318T195026Z
LAST-MODIFIED:20240318T195026Z
UID:1199-1726617600-1726703999@fbcstocktonmo.com
SUMMARY:Teachers/Workers Meeting
DESCRIPTION:
URL:https://fbcstocktonmo.com/event/teachers-workers-meeting-9/
END:VEVENT
BEGIN:VEVENT
DTSTART;VALUE=DATE:20240915
DTEND;VALUE=DATE:20240916
DTSTAMP:20260424T073635
CREATED:20240318T194954Z
LAST-MODIFIED:20240318T194954Z
UID:1197-1726358400-1726444799@fbcstocktonmo.com
SUMMARY:Family Day
DESCRIPTION:with S.M. Davis
URL:https://fbcstocktonmo.com/event/family-day/
END:VEVENT
BEGIN:VEVENT
DTSTART;VALUE=DATE:20240914
DTEND;VALUE=DATE:20240915
DTSTAMP:20260424T073635
CREATED:20240318T195227Z
LAST-MODIFIED:20240318T195227Z
UID:1205-1726272000-1726358399@fbcstocktonmo.com
SUMMARY:Church Activity
DESCRIPTION:
URL:https://fbcstocktonmo.com/event/church-activity-2/
END:VEVENT
BEGIN:VEVENT
DTSTART;VALUE=DATE:20240912
DTEND;VALUE=DATE:20240913
DTSTAMP:20260424T073635
CREATED:20240318T195155Z
LAST-MODIFIED:20240318T195155Z
UID:1203-1726099200-1726185599@fbcstocktonmo.com
SUMMARY:Secret Sister Reveal
DESCRIPTION:
URL:https://fbcstocktonmo.com/event/secret-sister-reveal-4/
END:VEVENT
BEGIN:VEVENT
DTSTART;VALUE=DATE:20240912
DTEND;VALUE=DATE:20240913
DTSTAMP:20260424T073635
CREATED:20240318T194839Z
LAST-MODIFIED:20240318T194839Z
UID:1195-1726099200-1726185599@fbcstocktonmo.com
SUMMARY:Prayer and Fasting
DESCRIPTION:
URL:https://fbcstocktonmo.com/event/prayer-and-fasting-7/
END:VEVENT
BEGIN:VEVENT
DTSTART;VALUE=DATE:20240908
DTEND;VALUE=DATE:20240909
DTSTAMP:20260424T073635
CREATED:20240318T194748Z
LAST-MODIFIED:20240318T194748Z
UID:1193-1725753600-1725839999@fbcstocktonmo.com
SUMMARY:Grandparents Day
DESCRIPTION:
URL:https://fbcstocktonmo.com/event/grandparents-day/
END:VEVENT
BEGIN:VEVENT
DTSTART;VALUE=DATE:20240825
DTEND;VALUE=DATE:20240826
DTSTAMP:20260424T073635
CREATED:20240318T194714Z
LAST-MODIFIED:20240318T194714Z
UID:1191-1724544000-1724630399@fbcstocktonmo.com
SUMMARY:Ice Cream Night
DESCRIPTION:After the Evening Service
URL:https://fbcstocktonmo.com/event/ice-cream-night/
END:VEVENT
BEGIN:VEVENT
DTSTART;VALUE=DATE:20240821
DTEND;VALUE=DATE:20240822
DTSTAMP:20260424T073635
CREATED:20240318T194636Z
LAST-MODIFIED:20240318T194636Z
UID:1189-1724198400-1724284799@fbcstocktonmo.com
SUMMARY:Teachers/Workers Meeting
DESCRIPTION:
URL:https://fbcstocktonmo.com/event/teachers-workers-meeting-8/
END:VEVENT
BEGIN:VEVENT
DTSTART;VALUE=DATE:20240818
DTEND;VALUE=DATE:20240819
DTSTAMP:20260424T073635
CREATED:20240318T194557Z
LAST-MODIFIED:20240318T194557Z
UID:1187-1723939200-1724025599@fbcstocktonmo.com
SUMMARY:Sloppy Joes Night
DESCRIPTION:After the Evening Service
URL:https://fbcstocktonmo.com/event/sloppy-joes-night/
END:VEVENT
BEGIN:VEVENT
DTSTART;VALUE=DATE:20240818
DTEND;VALUE=DATE:20240819
DTSTAMP:20260424T073635
CREATED:20240318T194514Z
LAST-MODIFIED:20240318T194514Z
UID:1185-1723939200-1724025599@fbcstocktonmo.com
SUMMARY:Tom Sooter
DESCRIPTION:Guest Speaker
URL:https://fbcstocktonmo.com/event/tom-sooter/
END:VEVENT
BEGIN:VEVENT
DTSTART;VALUE=DATE:20240811
DTEND;VALUE=DATE:20240812
DTSTAMP:20260424T073635
CREATED:20240318T193928Z
LAST-MODIFIED:20240318T194434Z
UID:1182-1723334400-1723420799@fbcstocktonmo.com
SUMMARY:Nacho Night
DESCRIPTION:After the Evening Service
URL:https://fbcstocktonmo.com/event/nacho-night/
END:VEVENT
BEGIN:VEVENT
DTSTART;VALUE=DATE:20240804
DTEND;VALUE=DATE:20240805
DTSTAMP:20260424T073635
CREATED:20240318T193826Z
LAST-MODIFIED:20240318T193826Z
UID:1180-1722729600-1722815999@fbcstocktonmo.com
SUMMARY:Watermelon Night
DESCRIPTION:After the Evening Service
URL:https://fbcstocktonmo.com/event/watermelon-night/
END:VEVENT
BEGIN:VEVENT
DTSTART;VALUE=DATE:20240721
DTEND;VALUE=DATE:20240724
DTSTAMP:20260424T073635
CREATED:20240318T193733Z
LAST-MODIFIED:20240318T193733Z
UID:1178-1721520000-1721779199@fbcstocktonmo.com
SUMMARY:God and Country Revival
DESCRIPTION:with Chuck Harding
URL:https://fbcstocktonmo.com/event/god-and-country-revival/
END:VEVENT
BEGIN:VEVENT
DTSTART;VALUE=DATE:20240717
DTEND;VALUE=DATE:20240718
DTSTAMP:20260424T073635
CREATED:20240318T193642Z
LAST-MODIFIED:20240318T193642Z
UID:1176-1721174400-1721260799@fbcstocktonmo.com
SUMMARY:Teachers/Workers Meeting
DESCRIPTION:
URL:https://fbcstocktonmo.com/event/teachers-workers-meeting-7/
END:VEVENT
BEGIN:VEVENT
DTSTART;VALUE=DATE:20240708
DTEND;VALUE=DATE:20240712
DTSTAMP:20260424T073635
CREATED:20240318T193600Z
LAST-MODIFIED:20240318T193600Z
UID:1174-1720396800-1720742399@fbcstocktonmo.com
SUMMARY:Vacation Bible School
DESCRIPTION:with Jeremy & Katie Lewis
URL:https://fbcstocktonmo.com/event/vacation-bible-school/
END:VEVENT
BEGIN:VEVENT
DTSTART;VALUE=DATE:20240702
DTEND;VALUE=DATE:20240703
DTSTAMP:20260424T073635
CREATED:20240318T193448Z
LAST-MODIFIED:20240318T193448Z
UID:1172-1719878400-1719964799@fbcstocktonmo.com
SUMMARY:Prayer and Fasting
DESCRIPTION:
URL:https://fbcstocktonmo.com/event/prayer-and-fasting-6/
END:VEVENT
BEGIN:VEVENT
DTSTART;VALUE=DATE:20240630
DTEND;VALUE=DATE:20240701
DTSTAMP:20260424T073635
CREATED:20240104T025610Z
LAST-MODIFIED:20240104T025610Z
UID:1169-1719705600-1719791999@fbcstocktonmo.com
SUMMARY:Lord's Supper
DESCRIPTION:
URL:https://fbcstocktonmo.com/event/lords-supper-2/
END:VEVENT
BEGIN:VEVENT
DTSTART;VALUE=DATE:20240623
DTEND;VALUE=DATE:20240624
DTSTAMP:20260424T073635
CREATED:20240104T025543Z
LAST-MODIFIED:20240104T025543Z
UID:1167-1719100800-1719187199@fbcstocktonmo.com
SUMMARY:Good Ole Baptist Potluck
DESCRIPTION:
URL:https://fbcstocktonmo.com/event/good-ole-baptist-potluck-2/
END:VEVENT
BEGIN:VEVENT
DTSTART;VALUE=DATE:20240619
DTEND;VALUE=DATE:20240620
DTSTAMP:20260424T073635
CREATED:20240104T025506Z
LAST-MODIFIED:20240104T025506Z
UID:1165-1718755200-1718841599@fbcstocktonmo.com
SUMMARY:Teachers/Workers Meeting
DESCRIPTION:
URL:https://fbcstocktonmo.com/event/teachers-workers-meeting-6/
END:VEVENT
BEGIN:VEVENT
DTSTART;VALUE=DATE:20240617
DTEND;VALUE=DATE:20240622
DTSTAMP:20260424T073635
CREATED:20240104T025434Z
LAST-MODIFIED:20240104T025434Z
UID:1163-1718582400-1719014399@fbcstocktonmo.com
SUMMARY:Teen Camp at Triple S Ranch
DESCRIPTION:
URL:https://fbcstocktonmo.com/event/teen-camp-at-triple-s-ranch/
END:VEVENT
BEGIN:VEVENT
DTSTART;VALUE=DATE:20240616
DTEND;VALUE=DATE:20240617
DTSTAMP:20260424T073635
CREATED:20240104T025401Z
LAST-MODIFIED:20240104T025401Z
UID:1161-1718496000-1718582399@fbcstocktonmo.com
SUMMARY:Father's Day
DESCRIPTION:
URL:https://fbcstocktonmo.com/event/fathers-day/
END:VEVENT
BEGIN:VEVENT
DTSTART;VALUE=DATE:20240613
DTEND;VALUE=DATE:20240614
DTSTAMP:20260424T073635
CREATED:20240104T025327Z
LAST-MODIFIED:20240104T025327Z
UID:1159-1718236800-1718323199@fbcstocktonmo.com
SUMMARY:Prayer and Fasting
DESCRIPTION:
URL:https://fbcstocktonmo.com/event/prayer-and-fasting-5/
END:VEVENT
BEGIN:VEVENT
DTSTART;VALUE=DATE:20240613
DTEND;VALUE=DATE:20240614
DTSTAMP:20260424T073635
CREATED:20240104T025257Z
LAST-MODIFIED:20240104T025257Z
UID:1157-1718236800-1718323199@fbcstocktonmo.com
SUMMARY:Secret Sister Reveal
DESCRIPTION:
URL:https://fbcstocktonmo.com/event/secret-sister-reveal-3/
END:VEVENT
BEGIN:VEVENT
DTSTART;VALUE=DATE:20240606
DTEND;VALUE=DATE:20240609
DTSTAMP:20260424T073635
CREATED:20240104T025125Z
LAST-MODIFIED:20240104T025125Z
UID:1155-1717632000-1717891199@fbcstocktonmo.com
SUMMARY:Men and Boys Campout/Fishout
DESCRIPTION:
URL:https://fbcstocktonmo.com/event/men-and-boys-campout-fishout/
END:VEVENT
BEGIN:VEVENT
DTSTART;VALUE=DATE:20240602
DTEND;VALUE=DATE:20240603
DTSTAMP:20260424T073635
CREATED:20240104T022521Z
LAST-MODIFIED:20240104T022521Z
UID:1153-1717286400-1717372799@fbcstocktonmo.com
SUMMARY:Promotion Sunday
DESCRIPTION:
URL:https://fbcstocktonmo.com/event/promotion-sunday/
END:VEVENT
BEGIN:VEVENT
DTSTART;VALUE=DATE:20240525
DTEND;VALUE=DATE:20240526
DTSTAMP:20260424T073635
CREATED:20240104T022442Z
LAST-MODIFIED:20240104T022442Z
UID:1151-1716595200-1716681599@fbcstocktonmo.com
SUMMARY:Church Activitiy
DESCRIPTION:
URL:https://fbcstocktonmo.com/event/church-activitiy/
END:VEVENT
BEGIN:VEVENT
DTSTART;VALUE=DATE:20240518
DTEND;VALUE=DATE:20240519
DTSTAMP:20260424T073635
CREATED:20240104T022413Z
LAST-MODIFIED:20240104T022413Z
UID:1149-1715990400-1716076799@fbcstocktonmo.com
SUMMARY:Men's Shootout
DESCRIPTION:
URL:https://fbcstocktonmo.com/event/mens-shootout/
END:VEVENT
BEGIN:VEVENT
DTSTART;VALUE=DATE:20240515
DTEND;VALUE=DATE:20240516
DTSTAMP:20260424T073635
CREATED:20240104T022341Z
LAST-MODIFIED:20240104T022341Z
UID:1147-1715731200-1715817599@fbcstocktonmo.com
SUMMARY:Teachers/Workers Meeting
DESCRIPTION:
URL:https://fbcstocktonmo.com/event/teachers-workers-meeting-5/
END:VEVENT
END:VCALENDAR