BEGIN:VCALENDAR
VERSION:2.0
PRODID:-//Faith Baptist Church - ECPv6.15.20//NONSGML v1.0//EN
CALSCALE:GREGORIAN
METHOD:PUBLISH
X-WR-CALNAME:Faith Baptist Church
X-ORIGINAL-URL:https://fbcstocktonmo.com
X-WR-CALDESC:Events for Faith Baptist Church
REFRESH-INTERVAL;VALUE=DURATION:PT1H
X-Robots-Tag:noindex
X-PUBLISHED-TTL:PT1H
BEGIN:VTIMEZONE
TZID:UTC
BEGIN:STANDARD
TZOFFSETFROM:+0000
TZOFFSETTO:+0000
TZNAME:UTC
DTSTART:20220101T000000
END:STANDARD
END:VTIMEZONE
BEGIN:VEVENT
DTSTART;VALUE=DATE:20231224
DTEND;VALUE=DATE:20231225
DTSTAMP:20260425T145459
CREATED:20230916T150608Z
LAST-MODIFIED:20230916T150608Z
UID:1060-1703376000-1703462399@fbcstocktonmo.com
SUMMARY:Christmas Eve Candlelight Service/Lord's Supper
DESCRIPTION:
URL:https://fbcstocktonmo.com/event/christmas-eve-candlelight-service-lords-supper/
END:VEVENT
BEGIN:VEVENT
DTSTART;VALUE=DATE:20231217
DTEND;VALUE=DATE:20231218
DTSTAMP:20260425T145459
CREATED:20230916T150515Z
LAST-MODIFIED:20230916T150515Z
UID:1058-1702771200-1702857599@fbcstocktonmo.com
SUMMARY:"Celebrate Christmas" Sunday
DESCRIPTION:
URL:https://fbcstocktonmo.com/event/celebrate-christmas-sunday/
END:VEVENT
BEGIN:VEVENT
DTSTART;VALUE=DATE:20231215
DTEND;VALUE=DATE:20231216
DTSTAMP:20260425T145459
CREATED:20230916T150428Z
LAST-MODIFIED:20230916T150428Z
UID:1056-1702598400-1702684799@fbcstocktonmo.com
SUMMARY:Adult Christmas Party
DESCRIPTION:
URL:https://fbcstocktonmo.com/event/adult-christmas-party/
END:VEVENT
BEGIN:VEVENT
DTSTART;VALUE=DATE:20231214
DTEND;VALUE=DATE:20231215
DTSTAMP:20260425T145459
CREATED:20230916T150307Z
LAST-MODIFIED:20230916T150307Z
UID:1054-1702512000-1702598399@fbcstocktonmo.com
SUMMARY:Day of Prayer & Fasting
DESCRIPTION:
URL:https://fbcstocktonmo.com/event/day-of-prayer-fasting-3/
END:VEVENT
BEGIN:VEVENT
DTSTART;VALUE=DATE:20231212
DTEND;VALUE=DATE:20231213
DTSTAMP:20260425T145459
CREATED:20230916T150237Z
LAST-MODIFIED:20230916T150237Z
UID:1052-1702339200-1702425599@fbcstocktonmo.com
SUMMARY:Church Christmas Caroling
DESCRIPTION:
URL:https://fbcstocktonmo.com/event/church-christmas-caroling/
END:VEVENT
BEGIN:VEVENT
DTSTART;VALUE=DATE:20231209
DTEND;VALUE=DATE:20231210
DTSTAMP:20260425T145459
CREATED:20230916T150147Z
LAST-MODIFIED:20230916T150147Z
UID:1050-1702080000-1702166399@fbcstocktonmo.com
SUMMARY:Super Saturday Soulwinning
DESCRIPTION:
URL:https://fbcstocktonmo.com/event/super-saturday-soulwinning-2/
END:VEVENT
BEGIN:VEVENT
DTSTART;VALUE=DATE:20231208
DTEND;VALUE=DATE:20231209
DTSTAMP:20260425T145459
CREATED:20230916T150103Z
LAST-MODIFIED:20230916T150103Z
UID:1048-1701993600-1702079999@fbcstocktonmo.com
SUMMARY:Teen Christmas Party
DESCRIPTION:
URL:https://fbcstocktonmo.com/event/teen-christmas-party/
END:VEVENT
BEGIN:VEVENT
DTSTART;VALUE=DATE:20231206
DTEND;VALUE=DATE:20231207
DTSTAMP:20260425T145459
CREATED:20230916T150030Z
LAST-MODIFIED:20230916T150030Z
UID:1046-1701820800-1701907199@fbcstocktonmo.com
SUMMARY:Sunday School Teachers and Workers Meeting
DESCRIPTION:
URL:https://fbcstocktonmo.com/event/sunday-school-teachers-and-workers-meeting-2/
END:VEVENT
BEGIN:VEVENT
DTSTART;VALUE=DATE:20231203
DTEND;VALUE=DATE:20231204
DTSTAMP:20260425T145459
CREATED:20230916T145908Z
LAST-MODIFIED:20230916T145908Z
UID:1044-1701561600-1701647999@fbcstocktonmo.com
SUMMARY:Parent Baby Dedication Sunday
DESCRIPTION:
URL:https://fbcstocktonmo.com/event/parent-baby-dedication-sunday/
END:VEVENT
BEGIN:VEVENT
DTSTART;VALUE=DATE:20231202
DTEND;VALUE=DATE:20231203
DTSTAMP:20260425T145459
CREATED:20230916T145836Z
LAST-MODIFIED:20230916T145836Z
UID:1042-1701475200-1701561599@fbcstocktonmo.com
SUMMARY:Churchwide Activity
DESCRIPTION:
URL:https://fbcstocktonmo.com/event/churchwide-activity/
END:VEVENT
BEGIN:VEVENT
DTSTART;VALUE=DATE:20231119
DTEND;VALUE=DATE:20231120
DTSTAMP:20260425T145459
CREATED:20230916T145800Z
LAST-MODIFIED:20230916T145800Z
UID:1040-1700352000-1700438399@fbcstocktonmo.com
SUMMARY:Thanksgiving Offering/Thanksgiving Fellowship
DESCRIPTION:
URL:https://fbcstocktonmo.com/event/thanksgiving-offering-thanksgiving-fellowship/
END:VEVENT
BEGIN:VEVENT
DTSTART;VALUE=DATE:20231112
DTEND;VALUE=DATE:20231113
DTSTAMP:20260425T145459
CREATED:20230916T145717Z
LAST-MODIFIED:20230916T145717Z
UID:1038-1699747200-1699833599@fbcstocktonmo.com
SUMMARY:Veterans' Sunday
DESCRIPTION:
URL:https://fbcstocktonmo.com/event/veterans-sunday/
END:VEVENT
BEGIN:VEVENT
DTSTART;VALUE=DATE:20231109
DTEND;VALUE=DATE:20231110
DTSTAMP:20260425T145459
CREATED:20230916T145638Z
LAST-MODIFIED:20230916T145638Z
UID:1036-1699488000-1699574399@fbcstocktonmo.com
SUMMARY:Day of Prayer & Fasting
DESCRIPTION:
URL:https://fbcstocktonmo.com/event/day-of-prayer-fasting-2/
END:VEVENT
BEGIN:VEVENT
DTSTART;VALUE=DATE:20231105
DTEND;VALUE=DATE:20231106
DTSTAMP:20260425T145459
CREATED:20230916T145605Z
LAST-MODIFIED:20230916T145605Z
UID:1034-1699142400-1699228799@fbcstocktonmo.com
SUMMARY:Guest Preacher: Evangelist Larry Brown
DESCRIPTION:
URL:https://fbcstocktonmo.com/event/guest-preacher-evangelist-larry-brown/
END:VEVENT
BEGIN:VEVENT
DTSTART;VALUE=DATE:20231022
DTEND;VALUE=DATE:20231023
DTSTAMP:20260425T145459
CREATED:20230916T145457Z
LAST-MODIFIED:20230916T145457Z
UID:1030-1697932800-1698019199@fbcstocktonmo.com
SUMMARY:Pumpkin Sunday
DESCRIPTION:
URL:https://fbcstocktonmo.com/event/pumpkin-sunday/
END:VEVENT
BEGIN:VEVENT
DTSTART;VALUE=DATE:20231019
DTEND;VALUE=DATE:20231022
DTSTAMP:20260425T145459
CREATED:20230916T145423Z
LAST-MODIFIED:20230916T152621Z
UID:1028-1697673600-1697932799@fbcstocktonmo.com
SUMMARY:Men's Retreat at Triple S Christian Ranch
DESCRIPTION:
URL:https://fbcstocktonmo.com/event/mens-retreat-at-triple-s-christian-ranch/
END:VEVENT
BEGIN:VEVENT
DTSTART;VALUE=DATE:20231018
DTEND;VALUE=DATE:20231019
DTSTAMP:20260425T145459
CREATED:20230916T145344Z
LAST-MODIFIED:20230916T145344Z
UID:1026-1697587200-1697673599@fbcstocktonmo.com
SUMMARY:Sunday School Teachers and Workers Meeting
DESCRIPTION:
URL:https://fbcstocktonmo.com/event/sunday-school-teachers-and-workers-meeting/
END:VEVENT
BEGIN:VEVENT
DTSTART;VALUE=DATE:20231008
DTEND;VALUE=DATE:20231009
DTSTAMP:20260425T145459
CREATED:20230916T145311Z
LAST-MODIFIED:20230916T145311Z
UID:1024-1696723200-1696809599@fbcstocktonmo.com
SUMMARY:Round Up Sunday/Friend Day with Evangelist Bruce Frye
DESCRIPTION:
URL:https://fbcstocktonmo.com/event/round-up-sunday-friend-day-with-evangelist-bruce-frye/
END:VEVENT
BEGIN:VEVENT
DTSTART;VALUE=DATE:20231007
DTEND;VALUE=DATE:20231008
DTSTAMP:20260425T145459
CREATED:20230916T145235Z
LAST-MODIFIED:20230916T145235Z
UID:1022-1696636800-1696723199@fbcstocktonmo.com
SUMMARY:Super Saturday Soulwinning
DESCRIPTION:
URL:https://fbcstocktonmo.com/event/super-saturday-soulwinning/
END:VEVENT
BEGIN:VEVENT
DTSTART;VALUE=DATE:20231005
DTEND;VALUE=DATE:20231006
DTSTAMP:20260425T145459
CREATED:20230916T145205Z
LAST-MODIFIED:20230916T145205Z
UID:1020-1696464000-1696550399@fbcstocktonmo.com
SUMMARY:Day of Prayer & Fasting
DESCRIPTION:
URL:https://fbcstocktonmo.com/event/day-of-prayer-fasting/
END:VEVENT
BEGIN:VEVENT
DTSTART;VALUE=DATE:20230929
DTEND;VALUE=DATE:20231001
DTSTAMP:20260425T145459
CREATED:20230916T145134Z
LAST-MODIFIED:20230916T145134Z
UID:1018-1695945600-1696118399@fbcstocktonmo.com
SUMMARY:St. Louis Ladies' Retreat
DESCRIPTION:
URL:https://fbcstocktonmo.com/event/st-louis-ladies-retreat/
END:VEVENT
BEGIN:VEVENT
DTSTART;VALUE=DATE:20230929
DTEND;VALUE=DATE:20230930
DTSTAMP:20260425T145459
CREATED:20230916T145527Z
LAST-MODIFIED:20230916T145527Z
UID:1032-1695945600-1696031999@fbcstocktonmo.com
SUMMARY:Lord's Supper
DESCRIPTION:
URL:https://fbcstocktonmo.com/event/lords-supper/
END:VEVENT
BEGIN:VEVENT
DTSTART;VALUE=DATE:20230920
DTEND;VALUE=DATE:20230921
DTSTAMP:20260425T145459
CREATED:20230916T145101Z
LAST-MODIFIED:20230916T145101Z
UID:1016-1695168000-1695254399@fbcstocktonmo.com
SUMMARY:Sunday School Teachers & Workers Meeting
DESCRIPTION:
URL:https://fbcstocktonmo.com/event/sunday-school-teachers-workers-meeting/
END:VEVENT
END:VCALENDAR