BEGIN:VCALENDAR
VERSION:2.0
PRODID:-//Faith Baptist Church - ECPv6.15.20//NONSGML v1.0//EN
CALSCALE:GREGORIAN
METHOD:PUBLISH
X-WR-CALNAME:Faith Baptist Church
X-ORIGINAL-URL:https://fbcstocktonmo.com
X-WR-CALDESC:Events for Faith Baptist Church
REFRESH-INTERVAL;VALUE=DURATION:PT1H
X-Robots-Tag:noindex
X-PUBLISHED-TTL:PT1H
BEGIN:VTIMEZONE
TZID:UTC
BEGIN:STANDARD
TZOFFSETFROM:+0000
TZOFFSETTO:+0000
TZNAME:UTC
DTSTART:20240101T000000
END:STANDARD
END:VTIMEZONE
BEGIN:VEVENT
DTSTART;VALUE=DATE:20260607
DTEND;VALUE=DATE:20260608
DTSTAMP:20260423T233318
CREATED:20260224T225136Z
LAST-MODIFIED:20260224T225136Z
UID:1492-1780790400-1780876799@fbcstocktonmo.com
SUMMARY:Promotion Sunday
DESCRIPTION:
URL:https://fbcstocktonmo.com/event/promotion-sunday-3/
END:VEVENT
BEGIN:VEVENT
DTSTART;VALUE=DATE:20260604
DTEND;VALUE=DATE:20260607
DTSTAMP:20260423T233318
CREATED:20260224T225101Z
LAST-MODIFIED:20260224T225101Z
UID:1490-1780531200-1780790399@fbcstocktonmo.com
SUMMARY:Men and Boys Campout/Fishout Branson
DESCRIPTION:
URL:https://fbcstocktonmo.com/event/men-and-boys-campout-fishout-branson/
END:VEVENT
BEGIN:VEVENT
DTSTART;VALUE=DATE:20260603
DTEND;VALUE=DATE:20260604
DTSTAMP:20260423T233318
CREATED:20260224T225022Z
LAST-MODIFIED:20260224T225022Z
UID:1487-1780444800-1780531199@fbcstocktonmo.com
SUMMARY:Bus Meeting
DESCRIPTION:
URL:https://fbcstocktonmo.com/event/bus-meeting-2/
END:VEVENT
BEGIN:VEVENT
DTSTART;VALUE=DATE:20260530
DTEND;VALUE=DATE:20260531
DTSTAMP:20260423T233318
CREATED:20260224T223213Z
LAST-MODIFIED:20260224T223213Z
UID:1485-1780099200-1780185599@fbcstocktonmo.com
SUMMARY:Church Activity
DESCRIPTION:
URL:https://fbcstocktonmo.com/event/church-activity-9/
END:VEVENT
BEGIN:VEVENT
DTSTART;VALUE=DATE:20260520
DTEND;VALUE=DATE:20260521
DTSTAMP:20260423T233318
CREATED:20260224T223145Z
LAST-MODIFIED:20260224T223145Z
UID:1483-1779235200-1779321599@fbcstocktonmo.com
SUMMARY:Teachers/Workers Meeting
DESCRIPTION:
URL:https://fbcstocktonmo.com/event/teachers-workers-meeting-15/
END:VEVENT
BEGIN:VEVENT
DTSTART;VALUE=DATE:20260510
DTEND;VALUE=DATE:20260511
DTSTAMP:20260423T233318
CREATED:20260224T223121Z
LAST-MODIFIED:20260224T223121Z
UID:1481-1778371200-1778457599@fbcstocktonmo.com
SUMMARY:Mother's Day
DESCRIPTION:
URL:https://fbcstocktonmo.com/event/mothers-day-2/
END:VEVENT
BEGIN:VEVENT
DTSTART;VALUE=DATE:20260503
DTEND;VALUE=DATE:20260507
DTSTAMP:20260423T233318
CREATED:20260224T223100Z
LAST-MODIFIED:20260224T223100Z
UID:1479-1777766400-1778111999@fbcstocktonmo.com
SUMMARY:Missions Conference with Maury Gibson
DESCRIPTION:International Meal One Night
URL:https://fbcstocktonmo.com/event/missions-conference-with-maury-gibson/
END:VEVENT
BEGIN:VEVENT
DTSTART;VALUE=DATE:20260502
DTEND;VALUE=DATE:20260503
DTSTAMP:20260423T233318
CREATED:20260224T223008Z
LAST-MODIFIED:20260224T223008Z
UID:1477-1777680000-1777766399@fbcstocktonmo.com
SUMMARY:Mother's Day Luncheon
DESCRIPTION:
URL:https://fbcstocktonmo.com/event/mothers-day-luncheon-3/
END:VEVENT
BEGIN:VEVENT
DTSTART;VALUE=DATE:20260429
DTEND;VALUE=DATE:20260430
DTSTAMP:20260423T233318
CREATED:20260224T222936Z
LAST-MODIFIED:20260224T222936Z
UID:1475-1777420800-1777507199@fbcstocktonmo.com
SUMMARY:Bus Meeting
DESCRIPTION:
URL:https://fbcstocktonmo.com/event/bus-meeting/
END:VEVENT
BEGIN:VEVENT
DTSTART;VALUE=DATE:20260427
DTEND;VALUE=DATE:20260428
DTSTAMP:20260423T233318
CREATED:20260224T222913Z
LAST-MODIFIED:20260224T222913Z
UID:1473-1777248000-1777334399@fbcstocktonmo.com
SUMMARY:Week of Prayer and Fasting
DESCRIPTION:
URL:https://fbcstocktonmo.com/event/week-of-prayer-and-fasting/
END:VEVENT
BEGIN:VEVENT
DTSTART;VALUE=DATE:20260425
DTEND;VALUE=DATE:20260426
DTSTAMP:20260423T233318
CREATED:20260224T222850Z
LAST-MODIFIED:20260224T222850Z
UID:1471-1777075200-1777161599@fbcstocktonmo.com
SUMMARY:Sunday School Clinic at Heritage Baptist Church Lawrence\, KS
DESCRIPTION:
URL:https://fbcstocktonmo.com/event/sunday-school-clinic-at-heritage-baptist-church-lawrence-ks/
END:VEVENT
BEGIN:VEVENT
DTSTART;VALUE=DATE:20260422
DTEND;VALUE=DATE:20260423
DTSTAMP:20260423T233318
CREATED:20260224T222741Z
LAST-MODIFIED:20260224T222741Z
UID:1469-1776816000-1776902399@fbcstocktonmo.com
SUMMARY:Teachers/Workers Meeting
DESCRIPTION:
URL:https://fbcstocktonmo.com/event/teachers-workers-meeting-14/
END:VEVENT
BEGIN:VEVENT
DTSTART;VALUE=DATE:20260421
DTEND;VALUE=DATE:20260422
DTSTAMP:20260423T233318
CREATED:20260224T222651Z
LAST-MODIFIED:20260224T222651Z
UID:1467-1776729600-1776815999@fbcstocktonmo.com
SUMMARY:Tuesday Church Visitation Begins
DESCRIPTION:
URL:https://fbcstocktonmo.com/event/tuesday-church-visitation-begins-2/
END:VEVENT
BEGIN:VEVENT
DTSTART;VALUE=DATE:20260405
DTEND;VALUE=DATE:20260411
DTSTAMP:20260423T233318
CREATED:20260224T222609Z
LAST-MODIFIED:20260224T222609Z
UID:1465-1775347200-1775865599@fbcstocktonmo.com
SUMMARY:Church Revival
DESCRIPTION:
URL:https://fbcstocktonmo.com/event/church-revival/
END:VEVENT
BEGIN:VEVENT
DTSTART;VALUE=DATE:20260405
DTEND;VALUE=DATE:20260406
DTSTAMP:20260423T233318
CREATED:20260224T222523Z
LAST-MODIFIED:20260224T222523Z
UID:1463-1775347200-1775433599@fbcstocktonmo.com
SUMMARY:Easter Sunday
DESCRIPTION:
URL:https://fbcstocktonmo.com/event/easter-sunday-2/
END:VEVENT
BEGIN:VEVENT
DTSTART;VALUE=DATE:20260404
DTEND;VALUE=DATE:20260405
DTSTAMP:20260423T233318
CREATED:20260224T222501Z
LAST-MODIFIED:20260224T222501Z
UID:1461-1775260800-1775347199@fbcstocktonmo.com
SUMMARY:Super Saturday Soul Winning for Easter
DESCRIPTION:
URL:https://fbcstocktonmo.com/event/super-saturday-soul-winning-for-easter-2/
END:VEVENT
BEGIN:VEVENT
DTSTART;VALUE=DATE:20260330
DTEND;VALUE=DATE:20260404
DTSTAMP:20260423T233318
CREATED:20260224T222415Z
LAST-MODIFIED:20260224T222415Z
UID:1459-1774828800-1775260799@fbcstocktonmo.com
SUMMARY:Cottage Prayer Meetings for Revival
DESCRIPTION:
URL:https://fbcstocktonmo.com/event/cottage-prayer-meetings-for-revival-2/
END:VEVENT
BEGIN:VEVENT
DTSTART;VALUE=DATE:20260329
DTEND;VALUE=DATE:20260330
DTSTAMP:20260423T233318
CREATED:20260224T222319Z
LAST-MODIFIED:20260224T222319Z
UID:1457-1774742400-1774828799@fbcstocktonmo.com
SUMMARY:Lord's Supper
DESCRIPTION:
URL:https://fbcstocktonmo.com/event/lords-supper-7/
END:VEVENT
BEGIN:VEVENT
DTSTART;VALUE=DATE:20260328
DTEND;VALUE=DATE:20260329
DTSTAMP:20260423T233318
CREATED:20260224T222252Z
LAST-MODIFIED:20260224T222252Z
UID:1455-1774656000-1774742399@fbcstocktonmo.com
SUMMARY:Church Cleaners Luncheon and Training
DESCRIPTION:
URL:https://fbcstocktonmo.com/event/church-cleaners-luncheon-and-training-2/
END:VEVENT
BEGIN:VEVENT
DTSTART;VALUE=DATE:20260321
DTEND;VALUE=DATE:20260322
DTSTAMP:20260423T233318
CREATED:20260224T222227Z
LAST-MODIFIED:20260224T222227Z
UID:1453-1774051200-1774137599@fbcstocktonmo.com
SUMMARY:Church Activity
DESCRIPTION:
URL:https://fbcstocktonmo.com/event/church-activity-8/
END:VEVENT
BEGIN:VEVENT
DTSTART;VALUE=DATE:20260318
DTEND;VALUE=DATE:20260319
DTSTAMP:20260423T233318
CREATED:20260224T222209Z
LAST-MODIFIED:20260224T222209Z
UID:1451-1773792000-1773878399@fbcstocktonmo.com
SUMMARY:Teachers/Workers Meeting
DESCRIPTION:
URL:https://fbcstocktonmo.com/event/teachers-workers-meeting-13/
END:VEVENT
BEGIN:VEVENT
DTSTART;VALUE=DATE:20260315
DTEND;VALUE=DATE:20260316
DTSTAMP:20260423T233318
CREATED:20260224T222118Z
LAST-MODIFIED:20260224T222118Z
UID:1448-1773532800-1773619199@fbcstocktonmo.com
SUMMARY:March to Sunday School Sunday
DESCRIPTION:
URL:https://fbcstocktonmo.com/event/march-to-sunday-school-sunday-3/
END:VEVENT
BEGIN:VEVENT
DTSTART;VALUE=DATE:20260313
DTEND;VALUE=DATE:20260314
DTSTAMP:20260423T233318
CREATED:20260224T222053Z
LAST-MODIFIED:20260224T222053Z
UID:1446-1773360000-1773446399@fbcstocktonmo.com
SUMMARY:Secret Sister Reveal
DESCRIPTION:
URL:https://fbcstocktonmo.com/event/secret-sister-reveal-9/
END:VEVENT
BEGIN:VEVENT
DTSTART;VALUE=DATE:20260309
DTEND;VALUE=DATE:20260310
DTSTAMP:20260423T233318
CREATED:20260224T222027Z
LAST-MODIFIED:20260224T222027Z
UID:1444-1773014400-1773100799@fbcstocktonmo.com
SUMMARY:Day of Prayer and Fasting
DESCRIPTION:
URL:https://fbcstocktonmo.com/event/day-of-prayer-and-fasting-2/
END:VEVENT
BEGIN:VEVENT
DTSTART;VALUE=DATE:20251224
DTEND;VALUE=DATE:20251225
DTSTAMP:20260423T233318
CREATED:20250123T182821Z
LAST-MODIFIED:20250123T182821Z
UID:1424-1766534400-1766620799@fbcstocktonmo.com
SUMMARY:Christmas Eve Candle Light Service
DESCRIPTION:
URL:https://fbcstocktonmo.com/event/christmas-eve-candle-light-service/
END:VEVENT
BEGIN:VEVENT
DTSTART;VALUE=DATE:20251221
DTEND;VALUE=DATE:20251222
DTSTAMP:20260423T233318
CREATED:20250123T182742Z
LAST-MODIFIED:20250123T182742Z
UID:1422-1766275200-1766361599@fbcstocktonmo.com
SUMMARY:Celebrate Christmas Sunday
DESCRIPTION:
URL:https://fbcstocktonmo.com/event/celebrate-christmas-sunday-3/
END:VEVENT
BEGIN:VEVENT
DTSTART;VALUE=DATE:20251220
DTEND;VALUE=DATE:20251221
DTSTAMP:20260423T233318
CREATED:20250123T182700Z
LAST-MODIFIED:20250123T182700Z
UID:1420-1766188800-1766275199@fbcstocktonmo.com
SUMMARY:Super Saturday Soulwinning
DESCRIPTION:
URL:https://fbcstocktonmo.com/event/super-saturday-soulwinning-9/
END:VEVENT
BEGIN:VEVENT
DTSTART;VALUE=DATE:20251216
DTEND;VALUE=DATE:20251217
DTSTAMP:20260423T233318
CREATED:20250123T182623Z
LAST-MODIFIED:20250123T182623Z
UID:1418-1765843200-1765929599@fbcstocktonmo.com
SUMMARY:Christmas Caroling
DESCRIPTION:
URL:https://fbcstocktonmo.com/event/christmas-caroling-2/
END:VEVENT
BEGIN:VEVENT
DTSTART;VALUE=DATE:20251212
DTEND;VALUE=DATE:20251213
DTSTAMP:20260423T233318
CREATED:20250123T182600Z
LAST-MODIFIED:20250123T182600Z
UID:1416-1765497600-1765583999@fbcstocktonmo.com
SUMMARY:Adult Christmas Party
DESCRIPTION:
URL:https://fbcstocktonmo.com/event/adult-christmas-party-3/
END:VEVENT
BEGIN:VEVENT
DTSTART;VALUE=DATE:20251207
DTEND;VALUE=DATE:20251208
DTSTAMP:20260423T233318
CREATED:20250123T182538Z
LAST-MODIFIED:20250123T182538Z
UID:1414-1765065600-1765151999@fbcstocktonmo.com
SUMMARY:Parent Baby Dedication Sunday
DESCRIPTION:
URL:https://fbcstocktonmo.com/event/parent-baby-dedication-sunday-2/
END:VEVENT
END:VCALENDAR