BEGIN:VCALENDAR
VERSION:2.0
PRODID:-//Faith Baptist Church - ECPv6.15.20//NONSGML v1.0//EN
CALSCALE:GREGORIAN
METHOD:PUBLISH
X-WR-CALNAME:Faith Baptist Church
X-ORIGINAL-URL:https://fbcstocktonmo.com
X-WR-CALDESC:Events for Faith Baptist Church
REFRESH-INTERVAL;VALUE=DURATION:PT1H
X-Robots-Tag:noindex
X-PUBLISHED-TTL:PT1H
BEGIN:VTIMEZONE
TZID:UTC
BEGIN:STANDARD
TZOFFSETFROM:+0000
TZOFFSETTO:+0000
TZNAME:UTC
DTSTART:20220101T000000
END:STANDARD
END:VTIMEZONE
BEGIN:VEVENT
DTSTART;VALUE=DATE:20230929
DTEND;VALUE=DATE:20231001
DTSTAMP:20260425T160655
CREATED:20230916T145134Z
LAST-MODIFIED:20230916T145134Z
UID:1018-1695945600-1696118399@fbcstocktonmo.com
SUMMARY:St. Louis Ladies' Retreat
DESCRIPTION:
URL:https://fbcstocktonmo.com/event/st-louis-ladies-retreat/
END:VEVENT
BEGIN:VEVENT
DTSTART;VALUE=DATE:20230929
DTEND;VALUE=DATE:20230930
DTSTAMP:20260425T160655
CREATED:20230916T145527Z
LAST-MODIFIED:20230916T145527Z
UID:1032-1695945600-1696031999@fbcstocktonmo.com
SUMMARY:Lord's Supper
DESCRIPTION:
URL:https://fbcstocktonmo.com/event/lords-supper/
END:VEVENT
BEGIN:VEVENT
DTSTART;VALUE=DATE:20230920
DTEND;VALUE=DATE:20230921
DTSTAMP:20260425T160655
CREATED:20230916T145101Z
LAST-MODIFIED:20230916T145101Z
UID:1016-1695168000-1695254399@fbcstocktonmo.com
SUMMARY:Sunday School Teachers & Workers Meeting
DESCRIPTION:
URL:https://fbcstocktonmo.com/event/sunday-school-teachers-workers-meeting/
END:VEVENT
END:VCALENDAR