BEGIN:VCALENDAR
VERSION:2.0
PRODID:-//Faith Baptist Church - ECPv6.15.20//NONSGML v1.0//EN
CALSCALE:GREGORIAN
METHOD:PUBLISH
X-ORIGINAL-URL:https://fbcstocktonmo.com
X-WR-CALDESC:Events for Faith Baptist Church
REFRESH-INTERVAL;VALUE=DURATION:PT1H
X-Robots-Tag:noindex
X-PUBLISHED-TTL:PT1H
BEGIN:VTIMEZONE
TZID:UTC
BEGIN:STANDARD
TZOFFSETFROM:+0000
TZOFFSETTO:+0000
TZNAME:UTC
DTSTART:20240101T000000
END:STANDARD
END:VTIMEZONE
BEGIN:VEVENT
DTSTART;VALUE=DATE:20251012
DTEND;VALUE=DATE:20251013
DTSTAMP:20260423T183424
CREATED:20250123T181151Z
LAST-MODIFIED:20250123T181151Z
UID:1390-1760227200-1760313599@fbcstocktonmo.com
SUMMARY:Pumpkin Sunday
DESCRIPTION:
URL:https://fbcstocktonmo.com/event/pumpkin-sunday-3/
END:VEVENT
BEGIN:VEVENT
DTSTART;VALUE=DATE:20251009
DTEND;VALUE=DATE:20251010
DTSTAMP:20260423T183424
CREATED:20250123T181045Z
LAST-MODIFIED:20250123T181045Z
UID:1388-1759968000-1760054399@fbcstocktonmo.com
SUMMARY:Day of Prayer & Fasting
DESCRIPTION:
URL:https://fbcstocktonmo.com/event/day-of-prayer-fasting-10/
END:VEVENT
BEGIN:VEVENT
DTSTART;VALUE=DATE:20250926
DTEND;VALUE=DATE:20250928
DTSTAMP:20260423T183424
CREATED:20250123T180953Z
LAST-MODIFIED:20250123T181016Z
UID:1385-1758844800-1759017599@fbcstocktonmo.com
SUMMARY:Ladies' Meeting in St. Louis
DESCRIPTION:
URL:https://fbcstocktonmo.com/event/ladies-meeting/
END:VEVENT
BEGIN:VEVENT
DTSTART;VALUE=DATE:20250920
DTEND;VALUE=DATE:20250921
DTSTAMP:20260423T183424
CREATED:20250123T180922Z
LAST-MODIFIED:20250123T180922Z
UID:1383-1758326400-1758412799@fbcstocktonmo.com
SUMMARY:Church Activity
DESCRIPTION:
URL:https://fbcstocktonmo.com/event/church-activity-6/
END:VEVENT
BEGIN:VEVENT
DTSTART;VALUE=DATE:20250914
DTEND;VALUE=DATE:20250915
DTSTAMP:20260423T183424
CREATED:20250123T180613Z
LAST-MODIFIED:20250123T180613Z
UID:1381-1757808000-1757894399@fbcstocktonmo.com
SUMMARY:Anniversary Sunday with Larry Brown
DESCRIPTION:
URL:https://fbcstocktonmo.com/event/anniversary-sunday-with-larry-brown/
END:VEVENT
BEGIN:VEVENT
DTSTART;VALUE=DATE:20250911
DTEND;VALUE=DATE:20250912
DTSTAMP:20260423T183424
CREATED:20250123T180544Z
LAST-MODIFIED:20250123T180544Z
UID:1379-1757548800-1757635199@fbcstocktonmo.com
SUMMARY:Secret Sister Reveal
DESCRIPTION:
URL:https://fbcstocktonmo.com/event/secret-sister-reveal-8/
END:VEVENT
BEGIN:VEVENT
DTSTART;VALUE=DATE:20250911
DTEND;VALUE=DATE:20250912
DTSTAMP:20260423T183424
CREATED:20250123T180519Z
LAST-MODIFIED:20250123T180519Z
UID:1377-1757548800-1757635199@fbcstocktonmo.com
SUMMARY:Day of Prayer & Fasting
DESCRIPTION:
URL:https://fbcstocktonmo.com/event/day-of-prayer-fasting-9/
END:VEVENT
BEGIN:VEVENT
DTSTART;VALUE=DATE:20250907
DTEND;VALUE=DATE:20250908
DTSTAMP:20260423T183424
CREATED:20250123T180446Z
LAST-MODIFIED:20250123T180446Z
UID:1375-1757203200-1757289599@fbcstocktonmo.com
SUMMARY:Grandparents' Sunday
DESCRIPTION:
URL:https://fbcstocktonmo.com/event/grandparents-sunday/
END:VEVENT
BEGIN:VEVENT
DTSTART;VALUE=DATE:20250906
DTEND;VALUE=DATE:20250907
DTSTAMP:20260423T183424
CREATED:20250123T180415Z
LAST-MODIFIED:20250123T180415Z
UID:1373-1757116800-1757203199@fbcstocktonmo.com
SUMMARY:Super Saturday Soulwinning
DESCRIPTION:
URL:https://fbcstocktonmo.com/event/super-saturday-soulwinning-7/
END:VEVENT
BEGIN:VEVENT
DTSTART;VALUE=DATE:20250831
DTEND;VALUE=DATE:20250901
DTSTAMP:20260423T183424
CREATED:20250123T180341Z
LAST-MODIFIED:20250123T180341Z
UID:1371-1756598400-1756684799@fbcstocktonmo.com
SUMMARY:Lord's Supper
DESCRIPTION:
URL:https://fbcstocktonmo.com/event/lords-supper-6/
END:VEVENT
BEGIN:VEVENT
DTSTART;VALUE=DATE:20250824
DTEND;VALUE=DATE:20250825
DTSTAMP:20260423T183424
CREATED:20250123T180314Z
LAST-MODIFIED:20250123T180314Z
UID:1369-1755993600-1756079999@fbcstocktonmo.com
SUMMARY:Ice Cream Social
DESCRIPTION:
URL:https://fbcstocktonmo.com/event/ice-cream-social/
END:VEVENT
BEGIN:VEVENT
DTSTART;VALUE=DATE:20250817
DTEND;VALUE=DATE:20250818
DTSTAMP:20260423T183424
CREATED:20250123T180252Z
LAST-MODIFIED:20250123T180252Z
UID:1367-1755388800-1755475199@fbcstocktonmo.com
SUMMARY:Sloppy Joe Night
DESCRIPTION:
URL:https://fbcstocktonmo.com/event/sloppy-joe-night/
END:VEVENT
BEGIN:VEVENT
DTSTART;VALUE=DATE:20250814
DTEND;VALUE=DATE:20250815
DTSTAMP:20260423T183424
CREATED:20250123T180222Z
LAST-MODIFIED:20250123T180222Z
UID:1365-1755129600-1755215999@fbcstocktonmo.com
SUMMARY:Day of Prayer & Fasting
DESCRIPTION:
URL:https://fbcstocktonmo.com/event/day-of-prayer-fasting-8/
END:VEVENT
BEGIN:VEVENT
DTSTART;VALUE=DATE:20250810
DTEND;VALUE=DATE:20250811
DTSTAMP:20260423T183424
CREATED:20250123T180147Z
LAST-MODIFIED:20250123T180147Z
UID:1363-1754784000-1754870399@fbcstocktonmo.com
SUMMARY:Nacho or Taco Salad Night
DESCRIPTION:
URL:https://fbcstocktonmo.com/event/nacho-or-taco-salad-night/
END:VEVENT
BEGIN:VEVENT
DTSTART;VALUE=DATE:20250803
DTEND;VALUE=DATE:20250804
DTSTAMP:20260423T183424
CREATED:20250123T180113Z
LAST-MODIFIED:20250123T180113Z
UID:1361-1754179200-1754265599@fbcstocktonmo.com
SUMMARY:Watermelon Night
DESCRIPTION:
URL:https://fbcstocktonmo.com/event/watermelon-night-2/
END:VEVENT
BEGIN:VEVENT
DTSTART;VALUE=DATE:20250803
DTEND;VALUE=DATE:20250804
DTSTAMP:20260423T183424
CREATED:20250123T175917Z
LAST-MODIFIED:20250123T175917Z
UID:1358-1754179200-1754265599@fbcstocktonmo.com
SUMMARY:Guest Speaker SM Davis Family Day
DESCRIPTION:
URL:https://fbcstocktonmo.com/event/guest-speaker-sm-davis-family-day/
END:VEVENT
BEGIN:VEVENT
DTSTART;VALUE=DATE:20250720
DTEND;VALUE=DATE:20250721
DTSTAMP:20260423T183424
CREATED:20250123T175824Z
LAST-MODIFIED:20250123T175824Z
UID:1356-1752969600-1753055999@fbcstocktonmo.com
SUMMARY:Guest Speaker Chuck Harding God & Country Day
DESCRIPTION:
URL:https://fbcstocktonmo.com/event/guest-speaker-chuck-harding-god-country-day/
END:VEVENT
BEGIN:VEVENT
DTSTART;VALUE=DATE:20250707
DTEND;VALUE=DATE:20250711
DTSTAMP:20260423T183424
CREATED:20250123T175640Z
LAST-MODIFIED:20250123T175640Z
UID:1354-1751846400-1752191999@fbcstocktonmo.com
SUMMARY:Vacation Bible School
DESCRIPTION:
URL:https://fbcstocktonmo.com/event/vacation-bible-school-2/
END:VEVENT
BEGIN:VEVENT
DTSTART;VALUE=DATE:20250706
DTEND;VALUE=DATE:20250707
DTSTAMP:20260423T183424
CREATED:20250123T175601Z
LAST-MODIFIED:20250123T175601Z
UID:1352-1751760000-1751846399@fbcstocktonmo.com
SUMMARY:Walkers Singing & Preaching
DESCRIPTION:
URL:https://fbcstocktonmo.com/event/walkers-singing-preaching/
END:VEVENT
BEGIN:VEVENT
DTSTART;VALUE=DATE:20250705
DTEND;VALUE=DATE:20250706
DTSTAMP:20260423T183424
CREATED:20250123T175506Z
LAST-MODIFIED:20250123T175506Z
UID:1350-1751673600-1751759999@fbcstocktonmo.com
SUMMARY:Super Saturday Soulwinning for VBS
DESCRIPTION:
URL:https://fbcstocktonmo.com/event/super-saturday-soulwinning-for-vbs/
END:VEVENT
BEGIN:VEVENT
DTSTART;VALUE=DATE:20250703
DTEND;VALUE=DATE:20250704
DTSTAMP:20260423T183424
CREATED:20250123T175438Z
LAST-MODIFIED:20250123T175438Z
UID:1348-1751500800-1751587199@fbcstocktonmo.com
SUMMARY:Day of Prayer & Fasting
DESCRIPTION:
URL:https://fbcstocktonmo.com/event/day-of-prayer-fasting-7/
END:VEVENT
BEGIN:VEVENT
DTSTART;VALUE=DATE:20250629
DTEND;VALUE=DATE:20250630
DTSTAMP:20260423T183424
CREATED:20250123T175352Z
LAST-MODIFIED:20250123T175352Z
UID:1346-1751155200-1751241599@fbcstocktonmo.com
SUMMARY:Good Ole Baptist Potluck
DESCRIPTION:
URL:https://fbcstocktonmo.com/event/good-ole-baptist-potluck-4/
END:VEVENT
BEGIN:VEVENT
DTSTART;VALUE=DATE:20250629
DTEND;VALUE=DATE:20250630
DTSTAMP:20260423T183424
CREATED:20250123T175321Z
LAST-MODIFIED:20250123T175321Z
UID:1344-1751155200-1751241599@fbcstocktonmo.com
SUMMARY:Guest Speaker Johnny Esposito
DESCRIPTION:
URL:https://fbcstocktonmo.com/event/guest-speaker-johnny-esposito/
END:VEVENT
BEGIN:VEVENT
DTSTART;VALUE=DATE:20250622
DTEND;VALUE=DATE:20250623
DTSTAMP:20260423T183424
CREATED:20250123T175247Z
LAST-MODIFIED:20250123T175247Z
UID:1342-1750550400-1750636799@fbcstocktonmo.com
SUMMARY:Lord's Supper
DESCRIPTION:
URL:https://fbcstocktonmo.com/event/lords-supper-5/
END:VEVENT
BEGIN:VEVENT
DTSTART;VALUE=DATE:20250616
DTEND;VALUE=DATE:20250621
DTSTAMP:20260423T183424
CREATED:20250123T175221Z
LAST-MODIFIED:20250123T175221Z
UID:1340-1750032000-1750463999@fbcstocktonmo.com
SUMMARY:Teen Camp at Triple S
DESCRIPTION:
URL:https://fbcstocktonmo.com/event/teen-camp-at-triple-s/
END:VEVENT
BEGIN:VEVENT
DTSTART;VALUE=DATE:20250615
DTEND;VALUE=DATE:20250616
DTSTAMP:20260423T183424
CREATED:20250123T175143Z
LAST-MODIFIED:20250123T175143Z
UID:1338-1749945600-1750031999@fbcstocktonmo.com
SUMMARY:Fathers' Day
DESCRIPTION:
URL:https://fbcstocktonmo.com/event/fathers-day-2/
END:VEVENT
BEGIN:VEVENT
DTSTART;VALUE=DATE:20250612
DTEND;VALUE=DATE:20250613
DTSTAMP:20260423T183424
CREATED:20250123T175106Z
LAST-MODIFIED:20250123T175106Z
UID:1336-1749686400-1749772799@fbcstocktonmo.com
SUMMARY:Secret Sister Reveal
DESCRIPTION:
URL:https://fbcstocktonmo.com/event/secret-sister-reveal-7/
END:VEVENT
BEGIN:VEVENT
DTSTART;VALUE=DATE:20250612
DTEND;VALUE=DATE:20250613
DTSTAMP:20260423T183424
CREATED:20250123T175037Z
LAST-MODIFIED:20250123T175037Z
UID:1334-1749686400-1749772799@fbcstocktonmo.com
SUMMARY:Day of Prayer & Fasting
DESCRIPTION:
URL:https://fbcstocktonmo.com/event/day-of-prayer-fasting-6/
END:VEVENT
BEGIN:VEVENT
DTSTART;VALUE=DATE:20250605
DTEND;VALUE=DATE:20250608
DTSTAMP:20260423T183424
CREATED:20250123T174959Z
LAST-MODIFIED:20250123T174959Z
UID:1332-1749081600-1749340799@fbcstocktonmo.com
SUMMARY:Men & Boys Campout/Fishout
DESCRIPTION:
URL:https://fbcstocktonmo.com/event/men-boys-campout-fishout/
END:VEVENT
BEGIN:VEVENT
DTSTART;VALUE=DATE:20250601
DTEND;VALUE=DATE:20250602
DTSTAMP:20260423T183424
CREATED:20250123T174910Z
LAST-MODIFIED:20250123T174910Z
UID:1330-1748736000-1748822399@fbcstocktonmo.com
SUMMARY:Promotion Sunday
DESCRIPTION:
URL:https://fbcstocktonmo.com/event/promotion-sunday-2/
END:VEVENT
END:VCALENDAR