BEGIN:VCALENDAR
VERSION:2.0
PRODID:-//Faith Baptist Church - ECPv6.15.20//NONSGML v1.0//EN
CALSCALE:GREGORIAN
METHOD:PUBLISH
X-ORIGINAL-URL:https://fbcstocktonmo.com
X-WR-CALDESC:Events for Faith Baptist Church
REFRESH-INTERVAL;VALUE=DURATION:PT1H
X-Robots-Tag:noindex
X-PUBLISHED-TTL:PT1H
BEGIN:VTIMEZONE
TZID:UTC
BEGIN:STANDARD
TZOFFSETFROM:+0000
TZOFFSETTO:+0000
TZNAME:UTC
DTSTART:20250101T000000
END:STANDARD
END:VTIMEZONE
BEGIN:VEVENT
DTSTART;VALUE=DATE:20261218
DTEND;VALUE=DATE:20261219
DTSTAMP:20260424T002705
CREATED:20260224T232439Z
LAST-MODIFIED:20260224T232439Z
UID:1602-1797552000-1797638399@fbcstocktonmo.com
SUMMARY:Adult Christmas Party
DESCRIPTION:
URL:https://fbcstocktonmo.com/event/adult-christmas-party-4/
END:VEVENT
BEGIN:VEVENT
DTSTART;VALUE=DATE:20261220
DTEND;VALUE=DATE:20261221
DTSTAMP:20260424T002705
CREATED:20260224T232512Z
LAST-MODIFIED:20260224T232512Z
UID:1604-1797724800-1797811199@fbcstocktonmo.com
SUMMARY:Celebrate Christmas Sunday
DESCRIPTION:
URL:https://fbcstocktonmo.com/event/celebrate-christmas-sunday-4/
END:VEVENT
BEGIN:VEVENT
DTSTART;VALUE=DATE:20261224
DTEND;VALUE=DATE:20261225
DTSTAMP:20260424T002705
CREATED:20260224T232544Z
LAST-MODIFIED:20260224T232544Z
UID:1606-1798070400-1798156799@fbcstocktonmo.com
SUMMARY:Christmas Eve Candlelight Service/Lord's Supper
DESCRIPTION:
URL:https://fbcstocktonmo.com/event/christmas-eve-candlelight-service-lords-supper-3/
END:VEVENT
BEGIN:VEVENT
DTSTART;VALUE=DATE:20261225
DTEND;VALUE=DATE:20261226
DTSTAMP:20260424T002705
CREATED:20260224T232601Z
LAST-MODIFIED:20260224T232601Z
UID:1608-1798156800-1798243199@fbcstocktonmo.com
SUMMARY:Christmas Day
DESCRIPTION:
URL:https://fbcstocktonmo.com/event/christmas-day/
END:VEVENT
END:VCALENDAR