BEGIN:VCALENDAR
VERSION:2.0
PRODID:-//Faith Baptist Church - ECPv6.15.20//NONSGML v1.0//EN
CALSCALE:GREGORIAN
METHOD:PUBLISH
X-WR-CALNAME:Faith Baptist Church
X-ORIGINAL-URL:https://fbcstocktonmo.com
X-WR-CALDESC:Events for Faith Baptist Church
REFRESH-INTERVAL;VALUE=DURATION:PT1H
X-Robots-Tag:noindex
X-PUBLISHED-TTL:PT1H
BEGIN:VTIMEZONE
TZID:UTC
BEGIN:STANDARD
TZOFFSETFROM:+0000
TZOFFSETTO:+0000
TZNAME:UTC
DTSTART:20250101T000000
END:STANDARD
END:VTIMEZONE
BEGIN:VEVENT
DTSTART;VALUE=DATE:20260309
DTEND;VALUE=DATE:20260310
DTSTAMP:20260423T155311
CREATED:20260224T222027Z
LAST-MODIFIED:20260224T222027Z
UID:1444-1773014400-1773100799@fbcstocktonmo.com
SUMMARY:Day of Prayer and Fasting
DESCRIPTION:
URL:https://fbcstocktonmo.com/event/day-of-prayer-and-fasting-2/
END:VEVENT
BEGIN:VEVENT
DTSTART;VALUE=DATE:20260313
DTEND;VALUE=DATE:20260314
DTSTAMP:20260423T155311
CREATED:20260224T222053Z
LAST-MODIFIED:20260224T222053Z
UID:1446-1773360000-1773446399@fbcstocktonmo.com
SUMMARY:Secret Sister Reveal
DESCRIPTION:
URL:https://fbcstocktonmo.com/event/secret-sister-reveal-9/
END:VEVENT
BEGIN:VEVENT
DTSTART;VALUE=DATE:20260315
DTEND;VALUE=DATE:20260316
DTSTAMP:20260423T155311
CREATED:20260224T222118Z
LAST-MODIFIED:20260224T222118Z
UID:1448-1773532800-1773619199@fbcstocktonmo.com
SUMMARY:March to Sunday School Sunday
DESCRIPTION:
URL:https://fbcstocktonmo.com/event/march-to-sunday-school-sunday-3/
END:VEVENT
BEGIN:VEVENT
DTSTART;VALUE=DATE:20260318
DTEND;VALUE=DATE:20260319
DTSTAMP:20260423T155311
CREATED:20260224T222209Z
LAST-MODIFIED:20260224T222209Z
UID:1451-1773792000-1773878399@fbcstocktonmo.com
SUMMARY:Teachers/Workers Meeting
DESCRIPTION:
URL:https://fbcstocktonmo.com/event/teachers-workers-meeting-13/
END:VEVENT
BEGIN:VEVENT
DTSTART;VALUE=DATE:20260321
DTEND;VALUE=DATE:20260322
DTSTAMP:20260423T155311
CREATED:20260224T222227Z
LAST-MODIFIED:20260224T222227Z
UID:1453-1774051200-1774137599@fbcstocktonmo.com
SUMMARY:Church Activity
DESCRIPTION:
URL:https://fbcstocktonmo.com/event/church-activity-8/
END:VEVENT
BEGIN:VEVENT
DTSTART;VALUE=DATE:20260328
DTEND;VALUE=DATE:20260329
DTSTAMP:20260423T155311
CREATED:20260224T222252Z
LAST-MODIFIED:20260224T222252Z
UID:1455-1774656000-1774742399@fbcstocktonmo.com
SUMMARY:Church Cleaners Luncheon and Training
DESCRIPTION:
URL:https://fbcstocktonmo.com/event/church-cleaners-luncheon-and-training-2/
END:VEVENT
BEGIN:VEVENT
DTSTART;VALUE=DATE:20260329
DTEND;VALUE=DATE:20260330
DTSTAMP:20260423T155311
CREATED:20260224T222319Z
LAST-MODIFIED:20260224T222319Z
UID:1457-1774742400-1774828799@fbcstocktonmo.com
SUMMARY:Lord's Supper
DESCRIPTION:
URL:https://fbcstocktonmo.com/event/lords-supper-7/
END:VEVENT
BEGIN:VEVENT
DTSTART;VALUE=DATE:20260330
DTEND;VALUE=DATE:20260404
DTSTAMP:20260423T155311
CREATED:20260224T222415Z
LAST-MODIFIED:20260224T222415Z
UID:1459-1774828800-1775260799@fbcstocktonmo.com
SUMMARY:Cottage Prayer Meetings for Revival
DESCRIPTION:
URL:https://fbcstocktonmo.com/event/cottage-prayer-meetings-for-revival-2/
END:VEVENT
END:VCALENDAR