BEGIN:VCALENDAR
VERSION:2.0
PRODID:-//Faith Baptist Church - ECPv6.15.20//NONSGML v1.0//EN
CALSCALE:GREGORIAN
METHOD:PUBLISH
X-WR-CALNAME:Faith Baptist Church
X-ORIGINAL-URL:https://fbcstocktonmo.com
X-WR-CALDESC:Events for Faith Baptist Church
REFRESH-INTERVAL;VALUE=DURATION:PT1H
X-Robots-Tag:noindex
X-PUBLISHED-TTL:PT1H
BEGIN:VTIMEZONE
TZID:UTC
BEGIN:STANDARD
TZOFFSETFROM:+0000
TZOFFSETTO:+0000
TZNAME:UTC
DTSTART:20250101T000000
END:STANDARD
END:VTIMEZONE
BEGIN:VEVENT
DTSTART;VALUE=DATE:20260802
DTEND;VALUE=DATE:20260803
DTSTAMP:20260423T194429
CREATED:20260224T225903Z
LAST-MODIFIED:20260224T225903Z
UID:1518-1785628800-1785715199@fbcstocktonmo.com
SUMMARY:Watermelon Night
DESCRIPTION:After the Evening Service
URL:https://fbcstocktonmo.com/event/watermelon-night-3/
END:VEVENT
BEGIN:VEVENT
DTSTART;VALUE=DATE:20260805
DTEND;VALUE=DATE:20260806
DTSTAMP:20260423T194429
CREATED:20260224T225923Z
LAST-MODIFIED:20260224T225923Z
UID:1520-1785888000-1785974399@fbcstocktonmo.com
SUMMARY:Bus Meeting
DESCRIPTION:
URL:https://fbcstocktonmo.com/event/bus-meeting-4/
END:VEVENT
BEGIN:VEVENT
DTSTART;VALUE=DATE:20260809
DTEND;VALUE=DATE:20260810
DTSTAMP:20260423T194429
CREATED:20260224T230002Z
LAST-MODIFIED:20260224T230002Z
UID:1522-1786233600-1786319999@fbcstocktonmo.com
SUMMARY:Nacho/Taco Salad Night
DESCRIPTION:After the Evening Service
URL:https://fbcstocktonmo.com/event/nacho-taco-salad-night/
END:VEVENT
BEGIN:VEVENT
DTSTART;VALUE=DATE:20260810
DTEND;VALUE=DATE:20260811
DTSTAMP:20260423T194429
CREATED:20260224T230029Z
LAST-MODIFIED:20260224T230029Z
UID:1524-1786320000-1786406399@fbcstocktonmo.com
SUMMARY:Week of Prayer and Fasting
DESCRIPTION:
URL:https://fbcstocktonmo.com/event/week-of-prayer-and-fasting-4/
END:VEVENT
BEGIN:VEVENT
DTSTART;VALUE=DATE:20260816
DTEND;VALUE=DATE:20260817
DTSTAMP:20260423T194429
CREATED:20260224T230055Z
LAST-MODIFIED:20260224T230055Z
UID:1526-1786838400-1786924799@fbcstocktonmo.com
SUMMARY:Special Speaker S.M. Davis
DESCRIPTION:
URL:https://fbcstocktonmo.com/event/special-speaker-s-m-davis/
END:VEVENT
BEGIN:VEVENT
DTSTART;VALUE=DATE:20260816
DTEND;VALUE=DATE:20260817
DTSTAMP:20260423T194429
CREATED:20260224T230138Z
LAST-MODIFIED:20260224T230138Z
UID:1528-1786838400-1786924799@fbcstocktonmo.com
SUMMARY:Sloppy Joe Night
DESCRIPTION:
URL:https://fbcstocktonmo.com/event/sloppy-joe-night-2/
END:VEVENT
BEGIN:VEVENT
DTSTART;VALUE=DATE:20260819
DTEND;VALUE=DATE:20260820
DTSTAMP:20260423T194429
CREATED:20260224T230217Z
LAST-MODIFIED:20260224T230217Z
UID:1530-1787097600-1787183999@fbcstocktonmo.com
SUMMARY:Teachers/Workers Meeting
DESCRIPTION:
URL:https://fbcstocktonmo.com/event/teachers-workers-meeting-18/
END:VEVENT
BEGIN:VEVENT
DTSTART;VALUE=DATE:20260823
DTEND;VALUE=DATE:20260824
DTSTAMP:20260423T194429
CREATED:20260224T230251Z
LAST-MODIFIED:20260224T230251Z
UID:1532-1787443200-1787529599@fbcstocktonmo.com
SUMMARY:Ice Cream Night
DESCRIPTION:
URL:https://fbcstocktonmo.com/event/ice-cream-night-2/
END:VEVENT
END:VCALENDAR