BEGIN:VCALENDAR
VERSION:2.0
PRODID:-//Faith Baptist Church - ECPv6.15.20//NONSGML v1.0//EN
CALSCALE:GREGORIAN
METHOD:PUBLISH
X-ORIGINAL-URL:https://fbcstocktonmo.com
X-WR-CALDESC:Events for Faith Baptist Church
REFRESH-INTERVAL;VALUE=DURATION:PT1H
X-Robots-Tag:noindex
X-PUBLISHED-TTL:PT1H
BEGIN:VTIMEZONE
TZID:UTC
BEGIN:STANDARD
TZOFFSETFROM:+0000
TZOFFSETTO:+0000
TZNAME:UTC
DTSTART:20250101T000000
END:STANDARD
END:VTIMEZONE
BEGIN:VEVENT
DTSTART;VALUE=DATE:20260902
DTEND;VALUE=DATE:20260903
DTSTAMP:20260423T210024
CREATED:20260224T230313Z
LAST-MODIFIED:20260224T230313Z
UID:1534-1788307200-1788393599@fbcstocktonmo.com
SUMMARY:Bus Meeting
DESCRIPTION:
URL:https://fbcstocktonmo.com/event/bus-meeting-5/
END:VEVENT
BEGIN:VEVENT
DTSTART;VALUE=DATE:20260907
DTEND;VALUE=DATE:20260908
DTSTAMP:20260423T210024
CREATED:20260224T230344Z
LAST-MODIFIED:20260224T230344Z
UID:1536-1788739200-1788825599@fbcstocktonmo.com
SUMMARY:Week of Prayer and Fasting
DESCRIPTION:
URL:https://fbcstocktonmo.com/event/week-of-prayer-and-fasting-5/
END:VEVENT
BEGIN:VEVENT
DTSTART;VALUE=DATE:20260910
DTEND;VALUE=DATE:20260911
DTSTAMP:20260423T210024
CREATED:20260224T230428Z
LAST-MODIFIED:20260224T230428Z
UID:1538-1788998400-1789084799@fbcstocktonmo.com
SUMMARY:Secret Sister Reveal
DESCRIPTION:
URL:https://fbcstocktonmo.com/event/secret-sister-reveal-11/
END:VEVENT
BEGIN:VEVENT
DTSTART;VALUE=DATE:20260916
DTEND;VALUE=DATE:20260917
DTSTAMP:20260423T210024
CREATED:20260224T230501Z
LAST-MODIFIED:20260224T230501Z
UID:1540-1789516800-1789603199@fbcstocktonmo.com
SUMMARY:Teachers/Workers Meeting
DESCRIPTION:
URL:https://fbcstocktonmo.com/event/teachers-workers-meeting-19/
END:VEVENT
BEGIN:VEVENT
DTSTART;VALUE=DATE:20260918
DTEND;VALUE=DATE:20260919
DTSTAMP:20260423T210024
CREATED:20260224T230523Z
LAST-MODIFIED:20260224T230523Z
UID:1542-1789689600-1789775999@fbcstocktonmo.com
SUMMARY:Church Activity
DESCRIPTION:
URL:https://fbcstocktonmo.com/event/church-activity-10/
END:VEVENT
BEGIN:VEVENT
DTSTART;VALUE=DATE:20260922
DTEND;VALUE=DATE:20260923
DTSTAMP:20260423T210024
CREATED:20260224T230551Z
LAST-MODIFIED:20260224T230551Z
UID:1544-1790035200-1790121599@fbcstocktonmo.com
SUMMARY:Tuesday Night Visitation Ends
DESCRIPTION:
URL:https://fbcstocktonmo.com/event/tuesday-night-visitation-ends/
END:VEVENT
BEGIN:VEVENT
DTSTART;VALUE=DATE:20260924
DTEND;VALUE=DATE:20260927
DTSTAMP:20260423T210024
CREATED:20260224T230628Z
LAST-MODIFIED:20260224T230628Z
UID:1546-1790208000-1790467199@fbcstocktonmo.com
SUMMARY:Walnut Festival
DESCRIPTION:
URL:https://fbcstocktonmo.com/event/walnut-festival-2/
END:VEVENT
BEGIN:VEVENT
DTSTART;VALUE=DATE:20260927
DTEND;VALUE=DATE:20260928
DTSTAMP:20260423T210024
CREATED:20260224T230659Z
LAST-MODIFIED:20260224T230659Z
UID:1548-1790467200-1790553599@fbcstocktonmo.com
SUMMARY:Anniversary Sunday with Larry Brown
DESCRIPTION:
URL:https://fbcstocktonmo.com/event/anniversary-sunday-with-larry-brown-2/
END:VEVENT
END:VCALENDAR